BEGIN:VCALENDAR
VERSION:2.0
PRODID:-//Twisted Tides - ECPv6.15.17//NONSGML v1.0//EN
CALSCALE:GREGORIAN
METHOD:PUBLISH
X-WR-CALNAME:Twisted Tides
X-ORIGINAL-URL:https://twistedtidescocoabeach.com
X-WR-CALDESC:Events for Twisted Tides
REFRESH-INTERVAL;VALUE=DURATION:PT1H
X-Robots-Tag:noindex
X-PUBLISHED-TTL:PT1H
BEGIN:VTIMEZONE
TZID:UTC
BEGIN:STANDARD
TZOFFSETFROM:+0000
TZOFFSETTO:+0000
TZNAME:UTC
DTSTART:20240101T000000
END:STANDARD
END:VTIMEZONE
BEGIN:VEVENT
DTSTART;TZID=UTC:20250211T180000
DTEND;TZID=UTC:20250211T180000
DTSTAMP:20260421T093537
CREATED:20250214T043830Z
LAST-MODIFIED:20250822T042622Z
UID:902-1739296800-1739296800@twistedtidescocoabeach.com
SUMMARY:Trivia Night
DESCRIPTION:Trivia Tuesdays hosted by Know It All Trivia Entertainment
URL:https://twistedtidescocoabeach.com/event/trivia-night-2/
END:VEVENT
BEGIN:VEVENT
DTSTART;TZID=UTC:20250209T130000
DTEND;TZID=UTC:20250209T130000
DTSTAMP:20260421T093537
CREATED:20250214T043829Z
LAST-MODIFIED:20250822T042622Z
UID:899-1739106000-1739106000@twistedtidescocoabeach.com
SUMMARY:Reggae Sundays
DESCRIPTION:Hosted by DJ Sharp
URL:https://twistedtidescocoabeach.com/event/reggae-sundays-3/
END:VEVENT
BEGIN:VEVENT
DTSTART;TZID=UTC:20250206T173000
DTEND;TZID=UTC:20250206T173000
DTSTAMP:20260421T093537
CREATED:20250214T043829Z
LAST-MODIFIED:20250822T042622Z
UID:898-1738863000-1738863000@twistedtidescocoabeach.com
SUMMARY:Acoustic Sessions
DESCRIPTION:Live Music by Karalyn
URL:https://twistedtidescocoabeach.com/event/acoustic-sessions/
END:VEVENT
BEGIN:VEVENT
DTSTART;TZID=UTC:20250204T180000
DTEND;TZID=UTC:20250204T180000
DTSTAMP:20260421T093537
CREATED:20250214T043829Z
LAST-MODIFIED:20250822T042622Z
UID:901-1738692000-1738692000@twistedtidescocoabeach.com
SUMMARY:Trivia Night
DESCRIPTION:Trivia Tuesdays hosted by Know It All Trivia Entertainment
URL:https://twistedtidescocoabeach.com/event/trivia-night/
END:VEVENT
BEGIN:VEVENT
DTSTART;TZID=UTC:20250202T130000
DTEND;TZID=UTC:20250202T130000
DTSTAMP:20260421T093537
CREATED:20250214T043829Z
LAST-MODIFIED:20250822T042622Z
UID:897-1738501200-1738501200@twistedtidescocoabeach.com
SUMMARY:Reggae Sundays
DESCRIPTION:Hosted by DJ Sharp
URL:https://twistedtidescocoabeach.com/event/reggae-sundays-2/
END:VEVENT
END:VCALENDAR