BEGIN:VCALENDAR
VERSION:2.0
PRODID:-//Twisted Tides - ECPv6.15.17//NONSGML v1.0//EN
CALSCALE:GREGORIAN
METHOD:PUBLISH
X-ORIGINAL-URL:https://twistedtidescocoabeach.com
X-WR-CALDESC:Events for Twisted Tides
REFRESH-INTERVAL;VALUE=DURATION:PT1H
X-Robots-Tag:noindex
X-PUBLISHED-TTL:PT1H
BEGIN:VTIMEZONE
TZID:UTC
BEGIN:STANDARD
TZOFFSETFROM:+0000
TZOFFSETTO:+0000
TZNAME:UTC
DTSTART:20240101T000000
END:STANDARD
END:VTIMEZONE
BEGIN:VEVENT
DTSTART;TZID=UTC:20250830T180000
DTEND;TZID=UTC:20250830T210000
DTSTAMP:20260421T053809
CREATED:20250820T112838Z
LAST-MODIFIED:20250820T112838Z
UID:1272-1756576800-1756587600@twistedtidescocoabeach.com
SUMMARY:Patrick
DESCRIPTION:Acoustic Sessions
URL:https://twistedtidescocoabeach.com/event/patrick-3/
LOCATION:Twisted Tides
CATEGORIES:Live Music
END:VEVENT
END:VCALENDAR