BEGIN:VCALENDAR
VERSION:2.0
PRODID:-//Twisted Tides - ECPv6.15.17//NONSGML v1.0//EN
CALSCALE:GREGORIAN
METHOD:PUBLISH
X-ORIGINAL-URL:https://twistedtidescocoabeach.com
X-WR-CALDESC:Events for Twisted Tides
REFRESH-INTERVAL;VALUE=DURATION:PT1H
X-Robots-Tag:noindex
X-PUBLISHED-TTL:PT1H
BEGIN:VTIMEZONE
TZID:UTC
BEGIN:STANDARD
TZOFFSETFROM:+0000
TZOFFSETTO:+0000
TZNAME:UTC
DTSTART:20240101T000000
END:STANDARD
END:VTIMEZONE
BEGIN:VEVENT
DTSTART;TZID=UTC:20250223T130000
DTEND;TZID=UTC:20250223T170000
DTSTAMP:20260421T140814
CREATED:20250226T212653Z
LAST-MODIFIED:20250226T212653Z
UID:976-1740315600-1740330000@twistedtidescocoabeach.com
SUMMARY:Reggae Sundays
DESCRIPTION:With DJ Sharp
URL:https://twistedtidescocoabeach.com/event/reggae-sundays-5/
LOCATION:Twisted Tides
CATEGORIES:DJ
END:VEVENT
END:VCALENDAR