BEGIN:VCALENDAR
VERSION:2.0
PRODID:-//Twisted Tides - ECPv6.15.17//NONSGML v1.0//EN
CALSCALE:GREGORIAN
METHOD:PUBLISH
X-ORIGINAL-URL:https://twistedtidescocoabeach.com
X-WR-CALDESC:Events for Twisted Tides
REFRESH-INTERVAL;VALUE=DURATION:PT1H
X-Robots-Tag:noindex
X-PUBLISHED-TTL:PT1H
BEGIN:VTIMEZONE
TZID:UTC
BEGIN:STANDARD
TZOFFSETFROM:+0000
TZOFFSETTO:+0000
TZNAME:UTC
DTSTART:20250101T000000
END:STANDARD
END:VTIMEZONE
BEGIN:VEVENT
DTSTART;TZID=UTC:20260320T190000
DTEND;TZID=UTC:20260320T220000
DTSTAMP:20260420T161311
CREATED:20260303T234149Z
LAST-MODIFIED:20260303T234149Z
UID:1366-1774033200-1774044000@twistedtidescocoabeach.com
SUMMARY:Live Music – Josh Waggener
DESCRIPTION:Live music performance by Josh Waggener
URL:https://twistedtidescocoabeach.com/event/live-music-josh-waggener-2/
END:VEVENT
END:VCALENDAR