BEGIN:VCALENDAR
VERSION:2.0
PRODID:-//Twisted Tides - ECPv6.15.17//NONSGML v1.0//EN
CALSCALE:GREGORIAN
METHOD:PUBLISH
X-WR-CALNAME:Twisted Tides
X-ORIGINAL-URL:https://twistedtidescocoabeach.com
X-WR-CALDESC:Events for Twisted Tides
REFRESH-INTERVAL;VALUE=DURATION:PT1H
X-Robots-Tag:noindex
X-PUBLISHED-TTL:PT1H
BEGIN:VTIMEZONE
TZID:UTC
BEGIN:STANDARD
TZOFFSETFROM:+0000
TZOFFSETTO:+0000
TZNAME:UTC
DTSTART:20240101T000000
END:STANDARD
END:VTIMEZONE
BEGIN:VEVENT
DTSTART;TZID=UTC:20250523T180000
DTEND;TZID=UTC:20250523T180000
DTSTAMP:20260422T112245
CREATED:20250418T192749Z
LAST-MODIFIED:20250822T042834Z
UID:1127-1748023200-1748023200@twistedtidescocoabeach.com
SUMMARY:Electric Sunset Sessions
DESCRIPTION:Music by DJ Miles Norris
URL:https://twistedtidescocoabeach.com/event/electric-sunset-sessions-14/
LOCATION:Twisted Tides
END:VEVENT
END:VCALENDAR