BEGIN:VCALENDAR
VERSION:2.0
PRODID:-//Twisted Tides - ECPv6.15.17//NONSGML v1.0//EN
CALSCALE:GREGORIAN
METHOD:PUBLISH
X-WR-CALNAME:Twisted Tides
X-ORIGINAL-URL:https://twistedtidescocoabeach.com
X-WR-CALDESC:Events for Twisted Tides
REFRESH-INTERVAL;VALUE=DURATION:PT1H
X-Robots-Tag:noindex
X-PUBLISHED-TTL:PT1H
BEGIN:VTIMEZONE
TZID:UTC
BEGIN:STANDARD
TZOFFSETFROM:+0000
TZOFFSETTO:+0000
TZNAME:UTC
DTSTART:20240101T000000
END:STANDARD
END:VTIMEZONE
BEGIN:VEVENT
DTSTART;TZID=UTC:20250303T173000
DTEND;TZID=UTC:20250303T173000
DTSTAMP:20260423T085419
CREATED:20250214T043846Z
LAST-MODIFIED:20250214T043846Z
UID:913-1741023000-1741023000@twistedtidescocoabeach.com
SUMMARY:Acoustic Sessions
DESCRIPTION:Live Music by Karalyn
URL:https://twistedtidescocoabeach.com/event/acoustic-sessions-7/
END:VEVENT
END:VCALENDAR